BEGIN:VCALENDAR
VERSION:2.0
PRODID:-//ChamberMaster//Event Calendar 2.0//EN
METHOD:PUBLISH
X-PUBLISHED-TTL:P3D
REFRESH-INTERVAL:P3D
CALSCALE:GREGORIAN
BEGIN:VEVENT
DTSTART:20210422T130000Z
DTEND:20210422T150000Z
X-MICROSOFT-CDO-ALLDAYEVENT:FALSE
SUMMARY:Small Business Financing Opportunities
DESCRIPTION:Join Longwood Small Business Development Center to learn about a variety of small business financing opportunities.\n\nTopics include:\n\n	Community overview presented by Dinwiddie County\n	Types of SBA Loan Guarantees and Small Business Loans presented by First National Bank Small Business Finance\n	Introduction to the Revolving Loan Fund presented by Crater Planning District Commission\n	Overview of the SWaM Microloan and Child Care Financing Program by the Virginia Small Business Financing Authority
X-ALT-DESC;FMTTYPE=text/html:Join Longwood Small Business Development Center to learn about a variety of small business financing opportunities.<br />\nTopics include:\n<ul>\n	<li>Community overview presented by Dinwiddie County</li>\n	<li>Types of SBA Loan Guarantees and Small Business Loans presented by First National Bank Small Business Finance</li>\n	<li>Introduction to the Revolving Loan Fund presented by Crater Planning District Commission</li>\n	<li>Overview of the SWaM Microloan and Child Care Financing Program by the Virginia Small Business Financing Authority</li>\n</ul>\n
LOCATION:Via Zoom Register at https://clients.virginiasbdc.org/workshop.aspx?ekey=93410002
UID:e.845.17925
SEQUENCE:3
DTSTAMP:20260419T153000Z
URL:https://business.halifaxchamber.net/events/details/small-business-financing-opportunities-17925
END:VEVENT

END:VCALENDAR
