BEGIN:VCALENDAR
VERSION:2.0
PRODID:-//ChamberMaster//Event Calendar 2.0//EN
METHOD:PUBLISH
X-PUBLISHED-TTL:P3D
REFRESH-INTERVAL:P3D
CALSCALE:GREGORIAN
BEGIN:VEVENT
DTSTART;VALUE=DATE:20191130
DTEND;VALUE=DATE:20191201
TRANSP:TRANSPARENT
X-MICROSOFT-CDO-ALLDAYEVENT:TRUE
SUMMARY:Small Business Saturday
DESCRIPTION:This Nov 30\, you can be a part of the 10th annual holiday shopping\n\ntradition that helps to bring communities together in support of their\n\nfavorite small businesses. Are you ready to Shop Small  and make a\n\nbig impact in your community?
X-ALT-DESC;FMTTYPE=text/html:<span style="font-family: BentonSans-Bk\, BentonSans\, Arial\, Helvetica\, sans-serif\; font-size: 14px\; text-align: center\; background-color: rgba(255\, 255\, 255\, 0.9)\;">This Nov 30\, you can be a part of the 10th annual holiday shopping</span><br style="box-sizing: border-box\; display: block\; font-family: BentonSans-Bk\, BentonSans\, Arial\, Helvetica\, sans-serif\; font-size: 14px\; text-align: center\; background-color: rgba(255\, 255\, 255\, 0.9)\;" />\n<span style="font-family: BentonSans-Bk\, BentonSans\, Arial\, Helvetica\, sans-serif\; font-size: 14px\; text-align: center\; background-color: rgba(255\, 255\, 255\, 0.9)\;">tradition that helps to bring communities together in support of their</span><br style="box-sizing: border-box\; display: block\; font-family: BentonSans-Bk\, BentonSans\, Arial\, Helvetica\, sans-serif\; font-size: 14px\; text-align: center\; background-color: rgba(255\, 255\, 255\, 0.9)\;" />\n<span style="font-family: BentonSans-Bk\, BentonSans\, Arial\, Helvetica\, sans-serif\; font-size: 14px\; text-align: center\; background-color: rgba(255\, 255\, 255\, 0.9)\;">favorite small businesses. Are you ready to Shop Small&reg\; and make a</span><br style="box-sizing: border-box\; display: block\; font-family: BentonSans-Bk\, BentonSans\, Arial\, Helvetica\, sans-serif\; font-size: 14px\; text-align: center\; background-color: rgba(255\, 255\, 255\, 0.9)\;" />\n<span style="font-family: BentonSans-Bk\, BentonSans\, Arial\, Helvetica\, sans-serif\; font-size: 14px\; text-align: center\; background-color: rgba(255\, 255\, 255\, 0.9)\;">big impact in your community?&nbsp\;</span>
LOCATION:
UID:e.845.15538
SEQUENCE:3
DTSTAMP:20260420T215053Z
URL:https://business.halifaxchamber.net/events/details/small-business-saturday-15538
END:VEVENT

END:VCALENDAR
