BEGIN:VCALENDAR
VERSION:2.0
PRODID:-//ChamberMaster//Event Calendar 2.0//EN
METHOD:PUBLISH
X-PUBLISHED-TTL:P3D
REFRESH-INTERVAL:P3D
CALSCALE:GREGORIAN
BEGIN:VEVENT
DTSTART;VALUE=DATE:20161126
DTEND;VALUE=DATE:20161127
TRANSP:TRANSPARENT
X-MICROSOFT-CDO-ALLDAYEVENT:TRUE
SUMMARY:Small Business Saturday
DESCRIPTION:Saturday\, November 26\, 2016 is Small Business Saturday. On this day\, we celebrate and support small businesses and all they do for our community. Please join the Halifax County Chamber of Commerce\, Destination Downtown South Boston\, Town of South Boston\, Town of Halifax\, and Halifax Village Association in supporting our local small businesses by shopping at a small business.\n\nShare where you #ShopSmall on Small Business Saturday! We are having a selfie event! Take a selfie this Sat Nov 26 in your favorite local business with owners\, signage\, staff\, unique finds\, whatever! And tag #ShopSmall\, #ShopSmallSoBo\, and #ShopSmallHali! Join in the fun and show us your selfies!
X-ALT-DESC;FMTTYPE=text/html:<span class="_4n-j fsl">Saturday\, November 26\, 2016 is Small Business Saturday. On this day\, we celebrate and support small businesses and all they do for our community. Please join the Halifax County Chamber of Commerce\, Destination Downtown South Boston\, Town of South Boston\, Town of Halifax\, and Halifax Village Association in supporting our local small businesses by shopping at a small business.<br />\nShare where you #ShopSmall on Small Business Saturday! We are having a selfie event! Take a selfie this Sat Nov 26 in your favorite local business with owners\, signage\, staff\, unique finds\, whatever! And tag #ShopSmall\, #ShopSmallSoBo\, and #ShopSmallHali! Join in the fun and show us your selfies!</span>
LOCATION:
UID:e.845.5730
SEQUENCE:3
DTSTAMP:20260424T193407Z
URL:https://business.halifaxchamber.net/events/details/small-business-saturday-5730
END:VEVENT

END:VCALENDAR
