BEGIN:VCALENDAR
VERSION:2.0
PRODID:-//ChamberMaster//Event Calendar 2.0//EN
METHOD:PUBLISH
X-PUBLISHED-TTL:P3D
REFRESH-INTERVAL:P3D
CALSCALE:GREGORIAN
BEGIN:VEVENT
DTSTART:20171125T150000Z
DTEND:20171125T180000Z
X-MICROSOFT-CDO-ALLDAYEVENT:FALSE
SUMMARY:Small Business Saturday Stew
DESCRIPTION:Spainhour Diner will be making both traditional and all chicken Brunswick stew. If you have a beef allergy this is the stew for you call 454-6022 to reserve quarts. Be sure to pre-order the all chicken as they are only making a limited amount above what is ordered\, both are $6qt.
X-ALT-DESC;FMTTYPE=text/html:Spainhour Diner&nbsp\;<span style="color: rgb(75\, 79\, 86)\; font-family: &quot\;SF Optimized&quot\;\, system-ui\, -apple-system\, system-ui\, &quot\;.SFNSText-Regular&quot\;\, sans-serif\; font-size: 14px\; letter-spacing: -0.12px\;">will be making both traditional and all chicken Brunswick stew. If you have a beef allergy this is the stew for you call 454-6022 to reserve quarts. Be sure to pre-order the all chicken as they are only making a limited amount above what is ordered\, both are $6qt.</span>
LOCATION:Spainhour Diner 7076 James D. Hagood Hwy Scottsburg\, VA
UID:e.845.7175
SEQUENCE:3
DTSTAMP:20260422T120946Z
URL:https://business.halifaxchamber.net/events/details/small-business-saturday-stew-7175
END:VEVENT

END:VCALENDAR
