BEGIN:VCALENDAR
VERSION:2.0
PRODID:-//ChamberMaster//Event Calendar 2.0//EN
METHOD:PUBLISH
X-PUBLISHED-TTL:P3D
REFRESH-INTERVAL:P3D
CALSCALE:GREGORIAN
BEGIN:VEVENT
DTSTART:20200424T130000Z
DTEND:20200424T140000Z
X-MICROSOFT-CDO-ALLDAYEVENT:FALSE
SUMMARY:Small Retail Business Member Meetup
DESCRIPTION:Join us for a member meet up with small business retailer owners. Tell us how your business is doing and how the Chamber and other businesses can assist you!
X-ALT-DESC;FMTTYPE=text/html:<span style="color: rgb(5\, 5\, 5)\; font-family: system-ui\, -apple-system\, system-ui\, &quot\;.SFNSText-Regular&quot\;\, sans-serif\; font-size: 15px\;">Join us for a member meet up with small business retailer owners. Tell us how your business is doing and how the Chamber and other businesses can assist you!</span>
LOCATION:Register at: https://zoom.us/meeting/register/tJAqfu2vpj8tGtPLGtJoONZcanMHes6BnxNC
UID:e.845.17574
SEQUENCE:3
DTSTAMP:20260420T114618Z
URL:https://business.halifaxchamber.net/events/details/small-retail-business-member-meetup-17574
END:VEVENT

END:VCALENDAR
