BEGIN:VCALENDAR
VERSION:2.0
PRODID:-//ChamberMaster//Event Calendar 2.0//EN
METHOD:PUBLISH
X-PUBLISHED-TTL:P3D
REFRESH-INTERVAL:P3D
CALSCALE:GREGORIAN
BEGIN:VEVENT
DTSTART:20200519T180000Z
DTEND:20200519T200000Z
X-MICROSOFT-CDO-ALLDAYEVENT:FALSE
SUMMARY:Smart Adaptations Before You Reopen Your Dining Room
DESCRIPTION:This workshop provides information that restaurants need in order to safely reopen their dining rooms. For instance\, when dine-in service resumes\, what measures need to be in place to maximize the safety of both employees and guests? What tactics can be used to consciously and subconsciously signal to guests that the restaurant is safe and inviting?\n\n\n\nSEATING IS LIMITED TO 12 PARTICIPANTS!\n\n\n\nPlease join Dr. Vincent Magnini\, Ph.D. & Carol Simon\, MBA\, via ZOOM for this informative virtual session.\n\n\n\nFacilitator Bios\n\nCarol Simon\, MBA is currently the Taskforce General Manager at the San Francisco Marriott Fisherman's Wharf. This hotel typically generates over $2 million in food and beverage revenues per year. As the General Manager\, Carol is tasked with leading her team in the implementation of all changes that should be made to food and beverage operations as a result of the COVID-19 pandemic. Therefore\, Carol is up-to-date on the most recent adaptations to restaurants that are needed during and following the pandemic. Carol has worked in the hospitality sector for more than 35 years. She holds an MBA from Golden Gate University and a Bachelor's Degree from Arizona State University.\n\n\n\nVince Magnini\, Ph.D. is a graduate of the U.S. Army Foodservice School and has worked at or consulted for a number of restaurants. He has taught college-level courses in menu planning / food production\, service management\, and catering management. His hospitality industry research has led him to be ranked among the most prolific hospitality researchers in the world. In addition to the U.S. Army Foodservice diploma\, Vince holds a B.S. in hospitality and tourism management (Virginia Tech)\, an MBA (Wichita State University)\, and a Ph.D. in Marketing (Old Dominion University).
X-ALT-DESC;FMTTYPE=text/html:<span style="font-size:12px\;"><span style="caret-color: rgb(0\, 0\, 0)\; color: rgb(0\, 0\, 0)\; font-family: Verdana\, sans-serif\; white-space: pre-wrap\; background-color: rgb(250\, 250\, 250)\;">This workshop provides information that restaurants need in order to safely reopen their dining rooms. For instance\, when dine-in service resumes\, what measures need to be in place to maximize the safety of both employees and guests? What tactics can be used to consciously and subconsciously signal to guests that the restaurant is safe and inviting?<br />\n<br />\nSEATING IS LIMITED TO 12 PARTICIPANTS!<br />\n<br />\nPlease join Dr. Vincent Magnini\, Ph.D. &amp\; Carol Simon\, MBA\, via ZOOM for this informative virtual session.<br />\n<br />\nFacilitator Bios<br />\nCarol Simon\, MBA is currently the Taskforce General Manager at the San Francisco Marriott Fisherman&rsquo\;s Wharf. This hotel typically generates over $2 million in food and beverage revenues per year. As the General Manager\, Carol is tasked with leading her team in the implementation of all changes that should be made to food and beverage operations as a result of the COVID-19 pandemic. Therefore\, Carol is up-to-date on the most recent adaptations to restaurants that are needed during and following the pandemic. Carol has worked in the hospitality sector for more than 35 years. She holds an MBA from Golden Gate University and a Bachelor&rsquo\;s Degree from Arizona State University.<br />\n<br />\nVince Magnini\, Ph.D. is a graduate of the U.S. Army Foodservice School and has worked at or consulted for a number of restaurants. He has taught college-level courses in menu planning / food production\, service management\, and catering management. His hospitality industry research has led him to be ranked among the most prolific hospitality researchers in the world. In addition to the U.S. Army Foodservice diploma\, Vince holds a B.S. in hospitality and tourism management (Virginia Tech)\, an MBA (Wichita State University)\, and a Ph.D. in Marketing (Old Dominion University).</span></span>
LOCATION:Register at: https://clients.virginiasbdc.org/workshop.aspx?ekey=90400018 The ZOOM link will be in your email reminder 48 hours prior to the virtual class.
UID:e.845.17588
SEQUENCE:3
DTSTAMP:20260420T100141Z
URL:https://business.halifaxchamber.net/events/details/smart-adaptations-before-you-reopen-your-dining-room-17588
END:VEVENT

END:VCALENDAR
