BEGIN:VCALENDAR
VERSION:2.0
PRODID:-//ChamberMaster//Event Calendar 2.0//EN
METHOD:PUBLISH
X-PUBLISHED-TTL:P3D
REFRESH-INTERVAL:P3D
CALSCALE:GREGORIAN
BEGIN:VEVENT
DTSTART:20200822T160000Z
DTEND:20200822T220000Z
X-MICROSOFT-CDO-ALLDAYEVENT:FALSE
SUMMARY:Smokehouse Bandit at Springfield Distillery
DESCRIPTION:Smokehouse Bandit will be cooking BBQ at Springfield Distillery
X-ALT-DESC;FMTTYPE=text/html:Smokehouse Bandit will be cooking BBQ at Springfield Distillery
LOCATION:Springfield Distillery 9040 River Road Halifax\, VA
UID:e.845.17742
SEQUENCE:3
DTSTAMP:20260420T062807Z
URL:https://business.halifaxchamber.net/events/details/smokehouse-bandit-at-springfield-distillery-17742
END:VEVENT

END:VCALENDAR
