BEGIN:VCALENDAR
VERSION:2.0
PRODID:-//ChamberMaster//Event Calendar 2.0//EN
METHOD:PUBLISH
X-PUBLISHED-TTL:P3D
REFRESH-INTERVAL:P3D
CALSCALE:GREGORIAN
BEGIN:VEVENT
DTSTART:20190502T233000Z
DTEND:20190502T233000Z
X-MICROSOFT-CDO-ALLDAYEVENT:FALSE
SUMMARY:Smokey Joe's Cafe @ The Prizery
DESCRIPTION:It's BACK! Think of your favorite Rock 'n Roll classics of the 50's and 60's\, and most of them were probably written by the team of Leiber & Stoller. If you remember the Coasters\, The Drifters\, Jerry Lee Lewis\, Elvis\, and dozens of other hit makers\, you don't want to miss this nostalgic trip through your musical past. The live band will rock the house!
X-ALT-DESC;FMTTYPE=text/html:<span style="font-family: Helvetica\, Arial\, sans-serif\; font-size: 15px\; background-color: rgba(245\, 240\, 236\, 0.5)\;">It&rsquo\;s BACK! Think of your favorite Rock &#39\;n Roll classics of the 50&rsquo\;s and 60&rsquo\;s\, and most of them were probably written by the team of Leiber &amp\; Stoller. If you remember the Coasters\, The Drifters\, Jerry Lee Lewis\, Elvis\, and dozens of other hit makers\, you don&rsquo\;t want to miss this nostalgic trip through your musical past. The live band will rock the house!</span>
LOCATION:The Prizery 700 Bruce Street South Boston\, VA 24592
UID:e.845.12449
SEQUENCE:3
DTSTAMP:20260421T080103Z
URL:https://business.halifaxchamber.net/events/details/smokey-joe-s-cafe-05-02-2019-12449
END:VEVENT

END:VCALENDAR
