BEGIN:VCALENDAR
VERSION:2.0
PRODID:-//ChamberMaster//Event Calendar 2.0//EN
METHOD:PUBLISH
X-PUBLISHED-TTL:P3D
REFRESH-INTERVAL:P3D
CALSCALE:GREGORIAN
BEGIN:VEVENT
DTSTART:20180519T180000Z
DTEND:20180520T000000Z
X-MICROSOFT-CDO-ALLDAYEVENT:FALSE
SUMMARY:SoBo BrewFest
DESCRIPTION:Destination Downtown South Boston and Halifax County Tourism present The Inaugural SoBo Brew Fest on Saturday\, May 19\, 2018.\n\nThe event will feature craft beer from breweries in Virginia and across the United States. The event will also showcase Halifax County wine and spirits. Food trucks and beer samplings will be spread throughout Constitution Square. Festival-goers will be entertained by four different bands during the event.
X-ALT-DESC;FMTTYPE=text/html:<p style="box-sizing: inherit\; margin: 1rem 0px\; font-family: roboto\, Helvetica\, Tahoma\, Geneva\, Arial\, sans-serif\; font-size: 16px\;">Destination Downtown South Boston and Halifax County Tourism present The Inaugural SoBo Brew Fest on Saturday\, May 19\, 2018.</p>\n\n<p style="box-sizing: inherit\; margin: 1rem 0px\; font-family: roboto\, Helvetica\, Tahoma\, Geneva\, Arial\, sans-serif\; font-size: 16px\;">The event will feature craft beer from breweries in Virginia and across the United States. The event will also showcase Halifax County wine and spirits. Food trucks and beer samplings will be spread throughout Constitution Square. Festival-goers will be entertained by four different bands during the event.</p>\n\n<h3 style="box-sizing: inherit\; margin: 0.75rem 0px 1.5rem\; text-rendering: optimizeLegibility\; font-size: 1.5rem\; font-family: roboto\, Helvetica\, Tahoma\, Geneva\, Arial\, sans-serif\; font-weight: 700\;">&nbsp\;</h3>\n\n<p style="box-sizing: inherit\; margin: 1rem 0px\; font-family: roboto\, Helvetica\, Tahoma\, Geneva\, Arial\, sans-serif\; font-size: 16px\;">&nbsp\;</p>\n\n<div>&nbsp\;</div>\n
LOCATION:The Inaugural SoBo Brew Fest will be held at Constitution Square in historic Downtown South Boston\, VA
UID:e.845.8305
SEQUENCE:3
DTSTAMP:20260422T014611Z
URL:https://business.halifaxchamber.net/events/details/sobo-brewfest-8305
END:VEVENT

END:VCALENDAR
