BEGIN:VCALENDAR
VERSION:2.0
PRODID:-//ChamberMaster//Event Calendar 2.0//EN
METHOD:PUBLISH
X-PUBLISHED-TTL:P3D
REFRESH-INTERVAL:P3D
CALSCALE:GREGORIAN
BEGIN:VEVENT
DTSTART:20190511T180000Z
DTEND:20190512T000000Z
X-MICROSOFT-CDO-ALLDAYEVENT:FALSE
SUMMARY:SOBO Craft Brew Festival
DESCRIPTION:Destination Downtown South Boston and Halifax County Tourism present The Second Annual SoBo Brew Fest on Saturday\, May 11\, 2019.\n\nThe event will feature craft beer from breweries in Virginia and across the United States. The event will also showcase Halifax County wine and spirits. Food trucks and beer samplings will be spread throughout Constitution Square. Festival-goers will be entertained by three different bands during the event.
X-ALT-DESC;FMTTYPE=text/html:<p style="font-size: 16px\; box-sizing: inherit\; margin: 1rem 0px\; caret-color: rgb(51\, 51\, 51)\; color: rgb(51\, 51\, 51)\; font-family: roboto\, Helvetica\, Tahoma\, Geneva\, Arial\, sans-serif\;">Destination Downtown South Boston and Halifax County Tourism present The Second Annual SoBo Brew Fest on Saturday\, May 11\, 2019.</p>\n\n<p style="font-size: 16px\; box-sizing: inherit\; margin: 1rem 0px\; caret-color: rgb(51\, 51\, 51)\; color: rgb(51\, 51\, 51)\; font-family: roboto\, Helvetica\, Tahoma\, Geneva\, Arial\, sans-serif\;">The event will feature craft beer from breweries in Virginia and across the United States. The event will also showcase Halifax County wine and spirits. Food trucks and beer samplings will be spread throughout Constitution Square. Festival-goers will be entertained by three different bands during the event.</p>\n
LOCATION:Constitution Square Downtown South Boston
UID:e.845.12047
SEQUENCE:3
DTSTAMP:20260421T062828Z
URL:https://business.halifaxchamber.net/events/details/sobo-craft-brew-festival-12047
END:VEVENT

END:VCALENDAR
