BEGIN:VCALENDAR
VERSION:2.0
PRODID:-//ChamberMaster//Event Calendar 2.0//EN
METHOD:PUBLISH
X-PUBLISHED-TTL:P3D
REFRESH-INTERVAL:P3D
CALSCALE:GREGORIAN
BEGIN:VEVENT
DTSTART:20170112T223000Z
DTEND:20170113T000000Z
X-MICROSOFT-CDO-ALLDAYEVENT:FALSE
SUMMARY:SoBo Start-Up! Kick-off
DESCRIPTION:Do you have a dream of starting your own business? Have you started building your business plan\, but you're stuck in a planning rut and need help? Let 2017 be the year your business dreams and plans come to life!\n\nWith the start of the New Year\, Destination Downtown South Boston will begin SoBo Start-Up!\, a six-week business development boot camp program for all levels of entrepreneurs. Participants can be individuals with new business plans or individuals with an established business who are seeking to revamp their future business plans or expand.\n\n\n\n    The kick-off for SoBo Start-Up! will be held on January 12 from 5:30 to 7 p.m. in the Southern Virginia Higher Education Foundation Board Room at the Southern Virginia Higher Education Center\, 820 Bruce Street\, South Boston. Individuals curious to learn more about SoBo Start-Up! or obtain an application for the program\, should plan to attend. If you have any questions you can call the Destination Downtown South Boston office at 434.575.4209\n\n\n\n    We look forward to seeing you!
X-ALT-DESC;FMTTYPE=text/html:&nbsp\;&nbsp\;&nbsp\;&nbsp\;Do you have a dream of starting your own business? Have you started building your business plan\, but you&rsquo\;re stuck in a planning rut and need help? Let 2017 be the year your business dreams and plans come to life!<br />\nWith the start of the New Year\, Destination Downtown South Boston will begin SoBo Start-Up!\, a six-week business development boot camp program for all levels of entrepreneurs. Participants can be individuals with new business plans or individuals with an established business who are seeking to revamp their future business plans or expand.<br />\n<br />\n&nbsp\;&nbsp\;&nbsp\;&nbsp\;The kick-off for SoBo Start-Up! will be held on January 12 from 5:30 to 7 p.m. in the Southern Virginia Higher Education Foundation Board Room at the Southern Virginia Higher Education Center\, 820 Bruce Street\, South Boston. Individuals curious to learn more about SoBo Start-Up! or obtain an application for the program\, should plan to attend. If you have any questions you can call the Destination Downtown South Boston office at 434.575.4209<br />\n<br />\n&nbsp\;&nbsp\;&nbsp\;&nbsp\;We look forward to seeing you!
LOCATION:Southern Virginia Higher Education Foundation Board Room at the Southern Virginia Higher Education Center 820 Bruce Street\, South Boston
UID:e.845.5749
SEQUENCE:3
DTSTAMP:20260424T162848Z
URL:https://business.halifaxchamber.net/events/details/sobo-start-up-kick-off-5749
END:VEVENT

END:VCALENDAR
