BEGIN:VCALENDAR
VERSION:2.0
PRODID:-//ChamberMaster//Event Calendar 2.0//EN
METHOD:PUBLISH
X-PUBLISHED-TTL:P3D
REFRESH-INTERVAL:P3D
CALSCALE:GREGORIAN
BEGIN:VEVENT
DTSTART:20170425T220000Z
DTEND:20170425T233000Z
X-MICROSOFT-CDO-ALLDAYEVENT:FALSE
SUMMARY:SoBo Start-Up Winners Announced
DESCRIPTION:SoBo Start-up Winners to be announced April 25th.\n\n\n\nAfter six weeks of business book camp\, building business plans and making a pitch\, it's time to reveal the very best in the Business competition. \n\n\n\nThe celebration will take place on the corner of N. Main Street and Wilborn Ave. in Downtown South Boston. We hope to see you there.
X-ALT-DESC;FMTTYPE=text/html:SoBo Start-up Winners to be announced April 25th.<br />\n<br />\nAfter six weeks of business book camp\, building business plans and making a pitch\, it&#39\;s time to reveal the very best in the Business competition.&nbsp\;<br />\n<br />\nThe celebration will take place on the corner of N. Main Street and Wilborn Ave. in Downtown South Boston. We hope to see you there.
LOCATION:Downtown South Boston
UID:e.845.5904
SEQUENCE:3
DTSTAMP:20260424T113809Z
URL:https://business.halifaxchamber.net/events/details/sobo-start-up-winners-announced-5904
END:VEVENT

END:VCALENDAR
