BEGIN:VCALENDAR
VERSION:2.0
PRODID:-//ChamberMaster//Event Calendar 2.0//EN
METHOD:PUBLISH
X-PUBLISHED-TTL:P3D
REFRESH-INTERVAL:P3D
CALSCALE:GREGORIAN
BEGIN:VEVENT
DTSTART:20180918T213000Z
DTEND:20180918T230000Z
X-MICROSOFT-CDO-ALLDAYEVENT:FALSE
SUMMARY:Social Media Marketing
DESCRIPTION:To train small businesses on how to successfully put together a social media plan\, to get the best return on your time investment\, and self-list on Google Maps and Virginia Tourism web directories to boost business effectiveness and profitability. This hands-on training will provide the opportunity for participants to establish a presence on the web.\n\n\n\nPresenter: Sandra Tanner\, VA Tourism Development Specialist
X-ALT-DESC;FMTTYPE=text/html:To train small businesses on how to successfully put together a social media plan\, to get the best return on your time investment\, and self-list on Google Maps and Virginia Tourism web directories to boost business effectiveness and profitability. This hands-on training will provide the opportunity for participants to establish a presence on the web.<br />\n<br />\nPresenter: Sandra Tanner\, VA Tourism Development Specialist<br />\n&nbsp\;
LOCATION:Halifax County Agricultural Marketing Center 1001 Farm Way Lane Scottsburg\, VA 24589
UID:e.845.8440
SEQUENCE:3
DTSTAMP:20260421T190333Z
URL:https://business.halifaxchamber.net/events/details/social-media-marketing-8440
END:VEVENT

END:VCALENDAR
