BEGIN:VCALENDAR
VERSION:2.0
PRODID:-//ChamberMaster//Event Calendar 2.0//EN
METHOD:PUBLISH
X-PUBLISHED-TTL:P3D
REFRESH-INTERVAL:P3D
CALSCALE:GREGORIAN
BEGIN:VEVENT
DTSTART:20200527T230000Z
DTEND:20200528T000000Z
X-MICROSOFT-CDO-ALLDAYEVENT:FALSE
SUMMARY:Social Media Strategies for a Changing Climate
DESCRIPTION:This hybrid course is a self-paced class and interactive Q&A designed to help you:\n\n \n      Choose the best social media channel for your brand\n\n      Create your content strategy and calendar\n\n      Prioritize advertising spending\n\n      Grow your audience even while you may be closed\n\n \n\nThis course is made up of a 6 training videos\, worksheets and an hour-long Q&A with a Letterpress instructor where you will have an opportunity to ask additional questions and receive a personalized follow up from Letterpress with recommendations for how to optimize your strategy.
X-ALT-DESC;FMTTYPE=text/html:<div style="color:rgb(0\, 0\, 0)\;font-family:-webkit-standard\;text-size-adjust:auto\;"><span style="color:#54410b\;"><span style="font-family:century gothic\,sans-serif\;"><span style="font-size:12pt\;">This hybrid course is a self-paced class and interactive Q&amp\;A designed to help you:</span></span></span></div>\n\n<div style="color:rgb(0\, 0\, 0)\;font-family:-webkit-standard\;text-size-adjust:auto\;">&nbsp\;</div>\n<span style="color:#54410b\;"><span style="font-size:10pt\;">&middot\;&nbsp\;&nbsp\;&nbsp\;&nbsp\; </span></span><strong><span style="color:#54410b\;"><span style="font-family:century gothic\,sans-serif\;"><span style="font-size:12pt\;">Choose the best social media channel for your brand</span></span></span></strong><br />\n<span style="color:#54410b\;"><span style="font-size:10pt\;">&middot\;&nbsp\;&nbsp\;&nbsp\;&nbsp\; </span></span><strong><span style="color:#54410b\;"><span style="font-family:century gothic\,sans-serif\;"><span style="font-size:12pt\;">Create your content strategy and calendar</span></span></span></strong><br />\n<span style="color:#54410b\;"><span style="font-size:10pt\;">&middot\;&nbsp\;&nbsp\;&nbsp\;&nbsp\; </span></span><strong><span style="color:#54410b\;"><span style="font-family:century gothic\,sans-serif\;"><span style="font-size:12pt\;">Prioritize advertising spending</span></span></span></strong><br />\n<span style="color:#54410b\;"><span style="font-size:10pt\;">&middot\;&nbsp\;&nbsp\;&nbsp\;&nbsp\; </span></span><strong><span style="color:#54410b\;"><span style="font-family:century gothic\,sans-serif\;"><span style="font-size:12pt\;">Grow your audience even while you may be closed</span></span></span></strong>\n\n<div style="color:rgb(0\, 0\, 0)\;font-family:-webkit-standard\;text-size-adjust:auto\;">&nbsp\;</div>\n\n<div style="color:rgb(0\, 0\, 0)\;font-family:-webkit-standard\;text-size-adjust:auto\;"><span style="color:#54410b\;"><span style="font-family:century gothic\,sans-serif\;"><span style="font-size:12pt\;">This course is made up of a 6 training videos\, worksheets and an hour-long Q&amp\;A with a Letterpress instructor where you will have an opportunity to ask additional questions and receive a personalized follow up from Letterpress with recommendations for how to optimize your strategy.</span></span></span></div>\n
LOCATION:Register at: https://clients.virginiasbdc.org/workshop.aspx?ekey=90400020
UID:e.845.17655
SEQUENCE:3
DTSTAMP:20260420T100252Z
URL:https://business.halifaxchamber.net/events/details/social-media-strategies-for-a-changing-climate-17655
END:VEVENT

END:VCALENDAR
