BEGIN:VCALENDAR
VERSION:2.0
PRODID:-//ChamberMaster//Event Calendar 2.0//EN
METHOD:PUBLISH
X-PUBLISHED-TTL:P3D
REFRESH-INTERVAL:P3D
CALSCALE:GREGORIAN
BEGIN:VEVENT
DTSTART:20200304T003000Z
DTEND:20200304T020000Z
X-MICROSOFT-CDO-ALLDAYEVENT:FALSE
SUMMARY:Socks In the Frying Pan
DESCRIPTION:A multi-awards winning trip from County Clare on the West Coast of Ireland. Their dynamic vocal harmonies\, virtuosic musical ability and onstage wit makes "Socks" one of the most sought-after groups in Irish music today.
X-ALT-DESC;FMTTYPE=text/html:A multi-awards winning trip from County Clare on the West Coast of Ireland. Their dynamic vocal harmonies\, virtuosic musical ability and onstage wit makes &quot\;Socks&quot\; one of the most sought-after groups in Irish music today.
LOCATION:The Prizery - The Chastain Theatre 700 Bruce Street South Boston\, VA 24592
UID:e.845.15585
SEQUENCE:3
DTSTAMP:20260420T150036Z
URL:https://business.halifaxchamber.net/events/details/socks-in-the-frying-pan-15585
END:VEVENT

END:VCALENDAR
