BEGIN:VCALENDAR
VERSION:2.0
PRODID:-//ChamberMaster//Event Calendar 2.0//EN
METHOD:PUBLISH
X-PUBLISHED-TTL:P3D
REFRESH-INTERVAL:P3D
CALSCALE:GREGORIAN
BEGIN:VEVENT
DTSTART:20170129T003000Z
DTEND:20170129T003000Z
X-MICROSOFT-CDO-ALLDAYEVENT:FALSE
SUMMARY:Songs from Broadway and Opera at The Prizery
DESCRIPTION:An evening of songs from Broadway and Opera presented by Opera on the James.
X-ALT-DESC;FMTTYPE=text/html:<span style="font-family:helvetica\,arial\,sans-serif\; font-size:15px">An evening of songs from Broadway and Opera presented by Opera on the James.</span>
LOCATION:The Prizery 700 Bruce Street South Boston\, VA Chastain Theatre
UID:e.845.5772
SEQUENCE:3
DTSTAMP:20260424T181128Z
URL:https://business.halifaxchamber.net/events/details/songs-from-broadway-and-opera-at-the-prizery-5772
END:VEVENT

END:VCALENDAR
