BEGIN:VCALENDAR
VERSION:2.0
PRODID:-//ChamberMaster//Event Calendar 2.0//EN
METHOD:PUBLISH
X-PUBLISHED-TTL:P3D
REFRESH-INTERVAL:P3D
CALSCALE:GREGORIAN
BEGIN:VEVENT
DTSTART:20170704T220000Z
DTEND:20170705T023000Z
X-MICROSOFT-CDO-ALLDAYEVENT:FALSE
SUMMARY:South Boston 4th of July Parade & Fireworks
DESCRIPTION:First ever Downtown South Boston 4th of July Parade and Fireworks!\n\n\n\nParade begins at 6PM\n\n\n\nFestivities & Entertainment\n\nCruz-in 6:30 - 9:30PM\n\nRay Martin Music 7-7:50PM\n\nTurkey Scratch 8-8:50PM\n\nRed\, White & Broadway 9-9:20PM\n\nFireworks to follow\n\n\n\nBounce house and face painting!\n\n\n\nFood vendors:\n\nHardman's Smoke Stack\n\nLight It Up Concessions\n\nByler's Handmade Ice Cream\n\nThe Worship Center\n\nExquisite Events\n\n\n\nHosted by Destination Downtown South Boston
X-ALT-DESC;FMTTYPE=text/html:First ever Downtown South Boston 4th of July Parade and Fireworks!<br />\n<br />\nParade begins at 6PM<br />\n<br />\nFestivities &amp\; Entertainment<br />\nCruz-in 6:30 - 9:30PM<br />\nRay Martin Music 7-7:50PM<br />\nTurkey Scratch 8-8:50PM<br />\nRed\, White &amp\; Broadway 9-9:20PM<br />\nFireworks to follow<br />\n<br />\nBounce house and face painting!<br />\n<br />\nFood vendors:<br />\nHardman&#39\;s Smoke Stack<br />\nLight It Up Concessions<br />\nByler&#39\;s Handmade Ice Cream<br />\nThe Worship Center<br />\nExquisite Events<br />\n<br />\nHosted by Destination Downtown South Boston
LOCATION:Constitution Square South Boston\, VA
UID:e.845.5827
SEQUENCE:3
DTSTAMP:20260422T194747Z
URL:https://business.halifaxchamber.net/events/details/south-boston-4th-of-july-parade-fireworks-5827
END:VEVENT

END:VCALENDAR
