BEGIN:VCALENDAR
VERSION:2.0
PRODID:-//ChamberMaster//Event Calendar 2.0//EN
METHOD:PUBLISH
X-PUBLISHED-TTL:P3D
REFRESH-INTERVAL:P3D
CALSCALE:GREGORIAN
BEGIN:VEVENT
DTSTART:20191207T220000Z
DTEND:20191208T000000Z
X-MICROSOFT-CDO-ALLDAYEVENT:FALSE
SUMMARY:South Boston Christmas Parade
DESCRIPTION:Bring the whole family to Downtown South Boston and celebrate "Christmas in Candy Land"\n\nAfter the parade visit Christmas in the Square with free hot chocolate\, hot dogs\, popcorn and a visit from Santa.
X-ALT-DESC;FMTTYPE=text/html:Bring the whole family to Downtown South Boston and celebrate &quot\;Christmas in Candy Land&quot\;<br />\nAfter the parade visit Christmas in the Square with free hot chocolate\, hot dogs\, popcorn and a visit from Santa.
LOCATION:Downtown South Boston Main Street South Boston\, VA 24592
UID:e.845.14487
SEQUENCE:3
DTSTAMP:20260420T200053Z
URL:https://business.halifaxchamber.net/events/details/south-boston-christmas-parade-14487
END:VEVENT

END:VCALENDAR
