BEGIN:VCALENDAR
VERSION:2.0
PRODID:-//ChamberMaster//Event Calendar 2.0//EN
METHOD:PUBLISH
X-PUBLISHED-TTL:P3D
REFRESH-INTERVAL:P3D
CALSCALE:GREGORIAN
BEGIN:VEVENT
DTSTART:20161203T220000Z
DTEND:20161204T000000Z
X-MICROSOFT-CDO-ALLDAYEVENT:FALSE
SUMMARY:South Boston Christmas Parade
DESCRIPTION:Dr. Suess Will Be On The Loose During The South Boston Christmas Parade. What favorite character or book will you potray? Let the creativity begin.\n\nTitle Sponsor Elliott Electric\, Inc.\n\nSilver Bell Sponsors:\n\nOld Dominion Electric Cooperative\n\nBenchmark Community Bank\n\nJingle Bell Sponsors:\n\nPiedmont Credit Union\n\nTrue Value\n\nComfort Systems USA MidAtlantic
X-ALT-DESC;FMTTYPE=text/html:Dr. Suess Will Be On The Loose During The South Boston Christmas Parade. What favorite character or book will you potray? Let the creativity begin.<br />\nTitle Sponsor Elliott Electric\, Inc.<br />\nSilver Bell Sponsors:<br />\nOld Dominion Electric Cooperative<br />\nBenchmark Community Bank<br />\nJingle Bell Sponsors:<br />\nPiedmont Credit Union<br />\nTrue Value<br />\nComfort Systems USA MidAtlantic<br />\n&nbsp\;
LOCATION:Downtown South Boston
UID:e.845.5724
SEQUENCE:3
DTSTAMP:20260424T192826Z
URL:https://business.halifaxchamber.net/events/details/south-boston-christmas-parade-5724
END:VEVENT

END:VCALENDAR
