BEGIN:VCALENDAR
VERSION:2.0
PRODID:-//ChamberMaster//Event Calendar 2.0//EN
METHOD:PUBLISH
X-PUBLISHED-TTL:P3D
REFRESH-INTERVAL:P3D
CALSCALE:GREGORIAN
BEGIN:VEVENT
DTSTART:20171202T220000Z
DTEND:20171202T230000Z
X-MICROSOFT-CDO-ALLDAYEVENT:FALSE
SUMMARY:South Boston Christmas Parade
DESCRIPTION:Souther Boston Christmas \n\nTheme - "A Disco Christmas" \n\n\n\nWant to me a part of this wonderful tradition?\n\nClick here to download an application for the Christmas Parade
X-ALT-DESC;FMTTYPE=text/html:Souther Boston Christmas&nbsp\;<br />\nTheme - &quot\;A Disco Christmas&quot\;&nbsp\;<br />\n<br />\nWant to me a part of this wonderful tradition?<br />\nClick <a href="http://www.downtownsobo.com/docs/2017-Christmas-Parade-Application.pdf">here</a> to download an application for the Christmas Parade&nbsp\;
LOCATION:Downtown South Boston
UID:e.845.7060
SEQUENCE:3
DTSTAMP:20260422T104614Z
URL:https://business.halifaxchamber.net/events/details/south-boston-christmas-parade-7060
END:VEVENT

END:VCALENDAR
