BEGIN:VCALENDAR
VERSION:2.0
PRODID:-//ChamberMaster//Event Calendar 2.0//EN
METHOD:PUBLISH
X-PUBLISHED-TTL:P3D
REFRESH-INTERVAL:P3D
CALSCALE:GREGORIAN
BEGIN:VEVENT
DTSTART:20181201T220000Z
DTEND:20181202T000000Z
X-MICROSOFT-CDO-ALLDAYEVENT:FALSE
SUMMARY:South Boston Christmas Parade
DESCRIPTION:Join the Town of South Boston for a Christmas Parade with a theme of "A Charlie Brown Christmas!"
X-ALT-DESC;FMTTYPE=text/html:Join the Town of South Boston for a Christmas Parade with a theme of &quot\;A Charlie Brown Christmas!&quot\;&nbsp\;<br />\n&nbsp\;
LOCATION:Main Street\, South Boston\, VA
UID:e.845.8556
SEQUENCE:3
DTSTAMP:20260421T135938Z
URL:https://business.halifaxchamber.net/events/details/south-boston-christmas-parade-8556
END:VEVENT

END:VCALENDAR
