BEGIN:VCALENDAR
VERSION:2.0
PRODID:-//ChamberMaster//Event Calendar 2.0//EN
METHOD:PUBLISH
X-PUBLISHED-TTL:P3D
REFRESH-INTERVAL:P3D
CALSCALE:GREGORIAN
BEGIN:VEVENT
DTSTART;VALUE=DATE:20190807
DTEND;VALUE=DATE:20190812
TRANSP:TRANSPARENT
X-MICROSOFT-CDO-ALLDAYEVENT:TRUE
SUMMARY:South Boston Church of God Vacation Bible School
DESCRIPTION:Join South Boston Church of God for Vacation Bible School\, Heroes of Meg City.\n\nAges 3 - 12 years old.
X-ALT-DESC;FMTTYPE=text/html:Join South Boston Church of God for Vacation Bible School\, Heroes of Meg City.<br />\nAges 3 - 12 years old.
LOCATION:South Boston Church of God 3000 Halifax Road South Boston\, VA 24592
UID:e.845.13255
SEQUENCE:3
DTSTAMP:20260421T012858Z
URL:https://business.halifaxchamber.net/events/details/south-boston-church-of-god-vacation-bible-school-13255
END:VEVENT

END:VCALENDAR
