BEGIN:VCALENDAR
VERSION:2.0
PRODID:-//ChamberMaster//Event Calendar 2.0//EN
METHOD:PUBLISH
X-PUBLISHED-TTL:P3D
REFRESH-INTERVAL:P3D
CALSCALE:GREGORIAN
BEGIN:VEVENT
DTSTART:20190518T110000Z
DTEND:20190518T170000Z
X-MICROSOFT-CDO-ALLDAYEVENT:FALSE
SUMMARY:South Boston Farmers Market
DESCRIPTION:South Boston Farmers Market will be celebrating..\n\n\n\nNational BBQ Month \n\nSmokin' Butts BBQ will be here serving up barbecue at it's best!\n\n\n\nNational Library Month \n\nHalifax County/South Boston Library staff will be here with story time for the kids\, books and stickers. Parents learn about the Summer Reading Program.\n\n\n\nNational Salad Month \n\nStaff from Virginia Cooperative Extension Family Nutrition Program will demonstrate how to make easy\, imaginative salads for everyone to sample.\n\n\n\nLocal farmers will have loads of fresh produce for sale\, baked goods\, flowers\, vegetable and herb starts and more!
X-ALT-DESC;FMTTYPE=text/html:<strong><span style="font-size:14px\;">South Boston Farmers Market will be celebrating..</span></strong><br />\n<br />\n<u><span style="font-size:12px\;">National BBQ Month</span></u><span style="font-size:12px\;">&nbsp\;<br />\nSmokin&#39\; Butts BBQ will be here serving up barbecue at it&#39\;s best!<br />\n<br />\n<u>National Library Month</u>&nbsp\;<br />\nHalifax County/South Boston Library staff will be here with story time for the kids\, books and stickers. Parents learn about the Summer Reading Program.</span><br />\n<br />\n<u>National Salad Month</u>&nbsp\;<br />\nStaff from Virginia Cooperative Extension Family Nutrition Program will demonstrate how to make easy\, imaginative salads for everyone to sample.<br />\n<br />\n<em>Local farmers will have loads of fresh produce for sale\, baked goods\, flowers\, vegetable and herb starts and more!</em>
LOCATION:South Boston Farmers Market 300 Broad Street South Boston\, VA 24592
UID:e.845.13121
SEQUENCE:3
DTSTAMP:20260421T080200Z
URL:https://business.halifaxchamber.net/events/details/south-boston-farmers-market-13121
END:VEVENT

END:VCALENDAR
