BEGIN:VCALENDAR
VERSION:2.0
PRODID:-//ChamberMaster//Event Calendar 2.0//EN
METHOD:PUBLISH
X-PUBLISHED-TTL:P3D
REFRESH-INTERVAL:P3D
CALSCALE:GREGORIAN
BEGIN:VEVENT
DTSTART:20190605T220000Z
DTEND:20190606T000000Z
X-MICROSOFT-CDO-ALLDAYEVENT:FALSE
SUMMARY:South Boston-Halifax County Museum Exhibits Opening Night
DESCRIPTION:South Boston - Halifax County Museum will be opening TWO new exhibits!\n\n"D-Day's 75th Anniversary Commemoration" dedicated to the soldiers of Co. F of the 116th Inf. who were native to South Boston.\n\n"They Call It Stormy Weather" which is a traveling exhibit with works depicting the changing season by noted artists.
X-ALT-DESC;FMTTYPE=text/html:South Boston - Halifax County Museum will be opening TWO new exhibits!<br />\n&quot\;D-Day&#39\;s 75th Anniversary Commemoration&quot\; dedicated to the soldiers of Co. F of the 116th Inf. who were native to South Boston.<br />\n&quot\;They Call It Stormy Weather&quot\; which is a traveling exhibit with works depicting the changing season by noted artists.
LOCATION:South Boston - Halifax County Museum of Fine Arts and History 1540 Wilborn Ave. South Boston\, VA 24592
UID:e.845.13150
SEQUENCE:3
DTSTAMP:20260421T044631Z
URL:https://business.halifaxchamber.net/events/details/south-boston-halifax-county-museum-exhibits-opening-night-13150
END:VEVENT

END:VCALENDAR
