BEGIN:VCALENDAR
VERSION:2.0
PRODID:-//ChamberMaster//Event Calendar 2.0//EN
METHOD:PUBLISH
X-PUBLISHED-TTL:P3D
REFRESH-INTERVAL:P3D
CALSCALE:GREGORIAN
BEGIN:VEVENT
DTSTART:20151220T190000Z
DTEND:20151220T210000Z
X-MICROSOFT-CDO-ALLDAYEVENT:FALSE
SUMMARY:South Boston-Halifax County Museum's Annual Christmas Open House
DESCRIPTION:The South Boston/Halifax County Museum of Fine Arts and History welcomes the public to attend it's Annual Christmas Open House. Visitors will enjoy a guest choir singing holiday classics\, numerous beautifully decorated trees\, mini village displays\, and decorations to bring to life a Charles Dickens "Christmas Carol" theme. Don't miss this opportunity to see the beautiful decorations on display as well as the current exhibits.
X-ALT-DESC;FMTTYPE=text/html:The South Boston/Halifax County Museum of Fine Arts and History welcomes the public to attend it&#39\;s Annual Christmas Open House. Visitors will enjoy a guest choir singing holiday classics\, numerous beautifully decorated trees\, mini village displays\, and decorations to bring to life a Charles Dickens &quot\;Christmas Carol&quot\; theme. Don&#39\;t miss this opportunity to see the beautiful decorations on display as well as the current exhibits.
LOCATION:South Boston/Halifax County Museum 1540 Wilborn Avenue South Boston\, VA 24592
UID:e.845.4560
SEQUENCE:3
DTSTAMP:20260425T144307Z
URL:https://business.halifaxchamber.net/events/details/south-boston-halifax-county-museum-s-annual-christmas-open-house-12-20-2015-4560
END:VEVENT

END:VCALENDAR
