BEGIN:VCALENDAR
VERSION:2.0
PRODID:-//ChamberMaster//Event Calendar 2.0//EN
METHOD:PUBLISH
X-PUBLISHED-TTL:P3D
REFRESH-INTERVAL:P3D
CALSCALE:GREGORIAN
BEGIN:VEVENT
DTSTART:20180616T170000Z
DTEND:20180616T180000Z
X-MICROSOFT-CDO-ALLDAYEVENT:FALSE
SUMMARY:South Boston/Halifax County Museum Searching for Friday
DESCRIPTION:Guest Lecture by North Carolina Central University Adjunct Professor of Writing\,\n\nShirley Faulkner-Springfield\, Ph.D.\n\n\n\nDr. Faulkner-Springfield will read a chapter titled "Oh My God! He Was A Slave!" that was published in the edited collection Serendipity in Rhetoric\, Writing\, and Literacy Research in April 2018. Dr. Faulkner-Springfield will relate to attendees the story of how she discovered that her great-great-grandfather\, Friday Faulkner\, was enslaved for a period of time in Person County and Halifax County. Through intense genealogical and historical research\, she reveals in her article the connection between the African American Faulkners of Person County and the first white Faulkner immigrant who arrived in the American colonies in 1622.
X-ALT-DESC;FMTTYPE=text/html:<span style="font-size:12px"><span style="font-size:18px">Guest Lecture by North Carolina Central University Adjunct Professor of Writing\,<br />\nShirley Faulkner-Springfield\, Ph.D.</span><br />\n<br />\n<span style="font-size:14px">Dr. Faulkner-Springfield will read a chapter titled &quot\;Oh My God! He Was A Slave!&quot\; that was published in the edited collection Serendipity in Rhetoric\, Writing\, and Literacy Research in April 2018. Dr. Faulkner-Springfield will relate to attendees the story of how she discovered that her great-great-grandfather\, Friday Faulkner\, was enslaved for a period of time in Person County and Halifax County. Through intense genealogical and historical research\, she reveals in her article the connection between the African American Faulkners of Person County and the first white Faulkner immigrant who arrived in the American colonies in 1622.</span></span>
LOCATION:South Boston - Halifax County Museum of Fine Arts and History
UID:e.845.8461
SEQUENCE:3
DTSTAMP:20260422T000833Z
URL:https://business.halifaxchamber.net/events/details/south-boston-halifax-county-museum-searching-for-friday-8461
END:VEVENT

END:VCALENDAR
