BEGIN:VCALENDAR
VERSION:2.0
PRODID:-//ChamberMaster//Event Calendar 2.0//EN
METHOD:PUBLISH
X-PUBLISHED-TTL:P3D
REFRESH-INTERVAL:P3D
CALSCALE:GREGORIAN
BEGIN:VEVENT
DTSTART:20160924T130000Z
DTEND:20160924T210000Z
X-MICROSOFT-CDO-ALLDAYEVENT:FALSE
SUMMARY:South Boston Harvest Festival
DESCRIPTION:Come out and enjoy South Boston's favorite place to celebrate the Fall season!\n\n\n\nNow in it's 26th year\, the South Boston Harvest Festival has become a favorite with kids and parents alike. Enjoy the attractions\, entertainment\, activities\, and food that are fun for all ages!\n\n\n\nSponsored by Destination Downtown South Boston\, Inc.
X-ALT-DESC;FMTTYPE=text/html:Come out and enjoy South Boston&#39\;s favorite place to celebrate the Fall season!<br />\n<br />\nNow in it&#39\;s 26th year\, the South Boston Harvest Festival has become a favorite with kids and parents alike. Enjoy the attractions\, entertainment\, activities\, and food that are fun for all ages!<br />\n<br />\nSponsored by Destination Downtown South Boston\, Inc.
LOCATION:Downtown South Boston
UID:e.845.4634
SEQUENCE:3
DTSTAMP:20260424T225531Z
URL:https://business.halifaxchamber.net/events/details/south-boston-harvest-festival-09-24-2016-4634
END:VEVENT

END:VCALENDAR
