BEGIN:VCALENDAR
VERSION:2.0
PRODID:-//ChamberMaster//Event Calendar 2.0//EN
METHOD:PUBLISH
X-PUBLISHED-TTL:P3D
REFRESH-INTERVAL:P3D
CALSCALE:GREGORIAN
BEGIN:VEVENT
DTSTART;VALUE=DATE:20150926
DTEND;VALUE=DATE:20150927
TRANSP:TRANSPARENT
X-MICROSOFT-CDO-ALLDAYEVENT:TRUE
SUMMARY:South Boston Harvest Festival
DESCRIPTION:Now in it's 24th year\, Destination Downtown South Boston hosts the South Boston Harvest Festival that has become a favorite with kids and parents alike. Enjoy the attractions\, entertainment\, activities\, and food that are fun for all ages!
X-ALT-DESC;FMTTYPE=text/html:Now in it&#39\;s 24th year\, Destination Downtown South Boston hosts&nbsp\;the South Boston Harvest Festival that has become a favorite with kids and parents alike. Enjoy the attractions\, entertainment\, activities\, and food that are fun for all ages!
LOCATION:Downtown South Boston\, VA
UID:e.845.3327
SEQUENCE:3
DTSTAMP:20260425T193236Z
URL:https://business.halifaxchamber.net/events/details/south-boston-harvest-festival-09-26-2015-3327
END:VEVENT

END:VCALENDAR
