BEGIN:VCALENDAR
VERSION:2.0
PRODID:-//ChamberMaster//Event Calendar 2.0//EN
METHOD:PUBLISH
X-PUBLISHED-TTL:P3D
REFRESH-INTERVAL:P3D
CALSCALE:GREGORIAN
BEGIN:VEVENT
DTSTART:20190928T130000Z
DTEND:20190928T210000Z
X-MICROSOFT-CDO-ALLDAYEVENT:FALSE
SUMMARY:South Boston Harvest Festival
DESCRIPTION:Now in it's 28th year\, the South Boston Harvest Festival has become a favorite with kids and parents alike. Enjoy the attractions\, entertainment\, activities\, and food that are fun for all ages!\n\n\n\nVisit http://www.soboharvestfest.com/ for more information. \n\n\n\nIf you are interested in sponsoring or being a vendor at this event please email sdavis@southbostonva.us
X-ALT-DESC;FMTTYPE=text/html:<span style="color: rgb(29\, 33\, 41)\; font-family: system-ui\, -apple-system\, system-ui\, &quot\;.SFNSText-Regular&quot\;\, sans-serif\; font-size: 14px\; white-space: pre-wrap\;">Now in it&#39\;s 28th year\, the South Boston Harvest Festival has become a favorite with kids and parents alike. Enjoy the attractions\, entertainment\, activities\, and food that are fun for all ages!</span><br style="color: rgb(29\, 33\, 41)\; font-family: system-ui\, -apple-system\, system-ui\, &quot\;.SFNSText-Regular&quot\;\, sans-serif\; font-size: 14px\; white-space: pre-wrap\;" />\n<br style="color: rgb(29\, 33\, 41)\; font-family: system-ui\, -apple-system\, system-ui\, &quot\;.SFNSText-Regular&quot\;\, sans-serif\; font-size: 14px\; white-space: pre-wrap\;" />\n<span style="color: rgb(29\, 33\, 41)\; font-family: system-ui\, -apple-system\, system-ui\, &quot\;.SFNSText-Regular&quot\;\, sans-serif\; font-size: 14px\; white-space: pre-wrap\;">Visit </span><a data-lynx-mode="hover" data-lynx-uri="https://l.facebook.com/l.php?u=http%3A%2F%2Fwww.soboharvestfest.com%2F%3Ffbclid%3DIwAR1VHCuf_WW33IA9uIl_AqWtmfvaySDk3KEKT6Cy8Pd7YxcigCtJtkkGAR0&amp\;h=AT3HtiLX_Q4h3p9ktXdLlJxrup7L0E3BBoJvXTw83vr2kxK4i7d7r91LkT-3U6-QzeZIl06Ek5xF-mrAKfzoKkqF52A43YjigMtj9K2_yG4LO_ZTWgSbiVg11AjHrhAXJZD836I" href="http://www.soboharvestfest.com/?fbclid=IwAR1VHCuf_WW33IA9uIl_AqWtmfvaySDk3KEKT6Cy8Pd7YxcigCtJtkkGAR0" rel="nofollow noopener" style="color: rgb(56\, 88\, 152)\; cursor: pointer\; text-decoration-line: none\; font-family: system-ui\, -apple-system\, system-ui\, &quot\;.SFNSText-Regular&quot\;\, sans-serif\; font-size: 14px\; white-space: pre-wrap\;" target="_blank">http://www.soboharvestfest.com/</a><span style="color: rgb(29\, 33\, 41)\; font-family: system-ui\, -apple-system\, system-ui\, &quot\;.SFNSText-Regular&quot\;\, sans-serif\; font-size: 14px\; white-space: pre-wrap\;"> for more information. </span><br style="color: rgb(29\, 33\, 41)\; font-family: system-ui\, -apple-system\, system-ui\, &quot\;.SFNSText-Regular&quot\;\, sans-serif\; font-size: 14px\; white-space: pre-wrap\;" />\n<br style="color: rgb(29\, 33\, 41)\; font-family: system-ui\, -apple-system\, system-ui\, &quot\;.SFNSText-Regular&quot\;\, sans-serif\; font-size: 14px\; white-space: pre-wrap\;" />\n<span style="color: rgb(29\, 33\, 41)\; font-family: system-ui\, -apple-system\, system-ui\, &quot\;.SFNSText-Regular&quot\;\, sans-serif\; font-size: 14px\; white-space: pre-wrap\;">If you are interested in sponsoring or being a vendor at this event please email sdavis@southbostonva.us</span>
LOCATION:Destination Downtown South Boston 432 Main Street South Boston\, VA 24592
UID:e.845.13269
SEQUENCE:3
DTSTAMP:20260420T234354Z
URL:https://business.halifaxchamber.net/events/details/south-boston-harvest-festival-13269
END:VEVENT

END:VCALENDAR
