BEGIN:VCALENDAR
VERSION:2.0
PRODID:-//ChamberMaster//Event Calendar 2.0//EN
METHOD:PUBLISH
X-PUBLISHED-TTL:P3D
REFRESH-INTERVAL:P3D
CALSCALE:GREGORIAN
BEGIN:VEVENT
DTSTART:20170930T130000Z
DTEND:20170930T210000Z
X-MICROSOFT-CDO-ALLDAYEVENT:FALSE
SUMMARY:South Boston Harvest Festival
DESCRIPTION:Come out and enjoy South Boston's favorite place to celebrate the fall season! \n\n\n\nNow in its 27th year\, the South Boston Harvest Festival has become a favorite with kids and parents alike. Enjoy the attractions\, entertainment\, activities\, and food that are fun for all ages!
X-ALT-DESC;FMTTYPE=text/html:Come out and enjoy South Boston&#39\;s favorite place to celebrate the fall season!&nbsp\;<br />\n<br />\nNow in its 27th year\, the South Boston Harvest Festival has become a favorite with kids and parents alike. Enjoy the attractions\, entertainment\, activities\, and food that are fun for all ages!&nbsp\;
LOCATION:Downtown South Boston
UID:e.845.7056
SEQUENCE:3
DTSTAMP:20260422T160306Z
URL:https://business.halifaxchamber.net/events/details/south-boston-harvest-festival-7056
END:VEVENT

END:VCALENDAR
