BEGIN:VCALENDAR
VERSION:2.0
PRODID:-//ChamberMaster//Event Calendar 2.0//EN
METHOD:PUBLISH
X-PUBLISHED-TTL:P3D
REFRESH-INTERVAL:P3D
CALSCALE:GREGORIAN
BEGIN:VEVENT
DTSTART:20180929T130000Z
DTEND:20180929T210000Z
X-MICROSOFT-CDO-ALLDAYEVENT:FALSE
SUMMARY:South Boston Harvest Festival
DESCRIPTION:Now in it's 27th year\, the South Boston Harvest Festival has become a favorite with kids and parents alike! Enjoy the attractions\,entertainment\, activities\, and food fun for all ages!\n\nVisit www.soboharvestfest.com event schedule and more!
X-ALT-DESC;FMTTYPE=text/html:Now in it&#39\;s 27th year\, the South Boston Harvest Festival has become a favorite with kids and parents alike! Enjoy the attractions\,entertainment\, activities\, and food fun for all ages!<br />\nVisit www.soboharvestfest.com event schedule and more!
LOCATION:Downtown South Boston
UID:e.845.8503
SEQUENCE:3
DTSTAMP:20260421T190727Z
URL:https://business.halifaxchamber.net/events/details/south-boston-harvest-festival-8503
END:VEVENT

END:VCALENDAR
