BEGIN:VCALENDAR
VERSION:2.0
PRODID:-//ChamberMaster//Event Calendar 2.0//EN
METHOD:PUBLISH
X-PUBLISHED-TTL:P3D
REFRESH-INTERVAL:P3D
CALSCALE:GREGORIAN
BEGIN:VEVENT
DTSTART:20200511T213000Z
DTEND:20200511T230000Z
X-MICROSOFT-CDO-ALLDAYEVENT:FALSE
SUMMARY:South Boston & Scottsburg Town Council Online Candidate Forum
DESCRIPTION:The Halifax County Chamber of Commerce is hosting a Candidate Forum on Monday\, May 11 for South Boston & Scottsburg Town Council. The forum begins with South Boston at 5:30 pm with Scottsburg immediately to follow\, and will be held live via Zoom\, Facebook\, and on 95.3HLF. Nick Long\, general manager of WHLF 95.3\, will moderate the forum. Those interested in submitting questions for the forum can submit those questions via email to info@halifaxchamber.net. \n\nSouth Boston invited candidates include: Mayor Edward "Ed" Owens\, Tina Wyatt-Younger\, Robert "Bob" Hughes\, Harriett Claiborne\, Joe Chandler\, III\, Thomas "Tommy" Elliott\, Jr.\, and Michael Byrd. Scottsburg invited candidates include: Mayor James Gordon\, Joe Allred III\, Russell Puckett\, Jr.\, James Stoner\, Connie Glass\, and Robert Elliott.
X-ALT-DESC;FMTTYPE=text/html:<span style="font-size:14px\;">The Halifax County Chamber of Commerce is hosting a Candidate Forum on Monday\, May 11 for South Boston &amp\; Scottsburg Town Council. The forum begins with South Boston at 5:30 pm with Scottsburg immediately to follow\, and will be held live via Zoom\, Facebook\, and on 95.3HLF. Nick Long\, general manager&nbsp\;of WHLF 95.3\, will moderate the forum. Those interested in submitting questions for the forum can submit those questions via email to&nbsp\;<a href="mailto:info@halifaxchamber.net" style="color:rgb(149\, 79\, 114)\;"><span style="color:black\;">info@halifaxchamber.net</span></a>.&nbsp\;<br />\nSouth Boston invited candidates include: Mayor Edward &quot\;Ed&quot\; Owens\, Tina Wyatt-Younger\, Robert &quot\;Bob&quot\; Hughes\, Harriett Claiborne\, Joe Chandler\, III\, Thomas &quot\;Tommy&quot\; Elliott\, Jr.\, and Michael Byrd. Scottsburg invited candidates include: Mayor James Gordon\, Joe Allred III\, Russell Puckett\, Jr.\, James Stoner\, Connie Glass\, and Robert Elliott.</span><br />\n&nbsp\;
LOCATION:Zoom link will be provided once registration is complete.
UID:e.845.17584
SEQUENCE:3
DTSTAMP:20260422T091533Z
URL:https://business.halifaxchamber.net/events/details/south-boston-scottsburg-town-council-online-candidate-forum-17584
END:VEVENT

END:VCALENDAR
