BEGIN:VCALENDAR
VERSION:2.0
PRODID:-//ChamberMaster//Event Calendar 2.0//EN
METHOD:PUBLISH
X-PUBLISHED-TTL:P3D
REFRESH-INTERVAL:P3D
CALSCALE:GREGORIAN
BEGIN:VEVENT
DTSTART:20210417T180000Z
DTEND:20210417T180000Z
X-MICROSOFT-CDO-ALLDAYEVENT:FALSE
SUMMARY:South Boston Speedway Day Race
DESCRIPTION:NASCAR Late Model T-75 / Limited 50 / Pure Stock 30 / Hornets 15 / Southern Ground Pounders 25\n\nBuy your tickets today at https://www.southbostonspeedway.com/
X-ALT-DESC;FMTTYPE=text/html:NASCAR Late Model T-75 / Limited 50 / Pure Stock 30 / Hornets 15 / Southern Ground Pounders 25<br />\nBuy your tickets today at&nbsp\;<a href="https://www.southbostonspeedway.com/">https://www.southbostonspeedway.com/</a>
LOCATION:South Boston Speedway 1188 James D. Hagood Hwy South Boston\, VA 24592
UID:e.845.17930
SEQUENCE:3
DTSTAMP:20260419T153102Z
URL:https://business.halifaxchamber.net/events/details/south-boston-speedway-day-race-17930
END:VEVENT

END:VCALENDAR
