BEGIN:VCALENDAR
VERSION:2.0
PRODID:-//ChamberMaster//Event Calendar 2.0//EN
METHOD:PUBLISH
X-PUBLISHED-TTL:P3D
REFRESH-INTERVAL:P3D
CALSCALE:GREGORIAN
BEGIN:VEVENT
DTSTART:20170513T140000Z
DTEND:20170514T000000Z
X-MICROSOFT-CDO-ALLDAYEVENT:FALSE
SUMMARY:South Boston Strawberry Festival
DESCRIPTION:Music\, free food tasting\, door prizes\, kids and family fun\, car show and local strawberries!\n\n\n\nMore details coming soon!
X-ALT-DESC;FMTTYPE=text/html:Music\, free food tasting\, door prizes\, kids and family fun\, car show and local strawberries!<br />\n<br />\nMore details coming soon!&nbsp\;
LOCATION:Halifax Square Shopping Center
UID:e.845.5782
SEQUENCE:3
DTSTAMP:20260422T233029Z
URL:https://business.halifaxchamber.net/events/details/south-boston-strawberry-festival-5782
END:VEVENT

END:VCALENDAR
