BEGIN:VCALENDAR
VERSION:2.0
PRODID:-//ChamberMaster//Event Calendar 2.0//EN
METHOD:PUBLISH
X-PUBLISHED-TTL:P3D
REFRESH-INTERVAL:P3D
CALSCALE:GREGORIAN
BEGIN:VEVENT
DTSTART:20190622T210000Z
DTEND:20190622T210000Z
X-MICROSOFT-CDO-ALLDAYEVENT:FALSE
SUMMARY:South Boston Truck & Tractor Pull
DESCRIPTION:The Annual South Boston Truck & Tractor Pull will be held at the Halifax County Fairgrounds.\n\nThis Pull includes Dragon MotorSports Points Classes and Street Classes.\n\nConcessions will be available.
X-ALT-DESC;FMTTYPE=text/html:The Annual South Boston Truck &amp\; Tractor Pull will be held at the Halifax County Fairgrounds.<br />\nThis Pull includes Dragon MotorSports Points Classes and Street Classes.<br />\nConcessions will be available.
LOCATION:Halifax County Fairgrounds 1188 James D Hagood Hwy South Boston\, VA 24592 Behind South Boston Speedway
UID:e.845.13155
SEQUENCE:3
DTSTAMP:20260421T044016Z
URL:https://business.halifaxchamber.net/events/details/south-boston-truck-tractor-pull-13155
END:VEVENT

END:VCALENDAR
