BEGIN:VCALENDAR
VERSION:2.0
PRODID:-//ChamberMaster//Event Calendar 2.0//EN
METHOD:PUBLISH
X-PUBLISHED-TTL:P3D
REFRESH-INTERVAL:P3D
CALSCALE:GREGORIAN
BEGIN:VEVENT
DTSTART:20190224T140000Z
DTEND:20190224T200000Z
X-MICROSOFT-CDO-ALLDAYEVENT:FALSE
SUMMARY:South Boston Virginia Civil War & Military Show
DESCRIPTION:Our annual South Boston Civil War and Militaria show is back once again! Collectors from all over the Commonwealth of Virginia and the State of North Carolina will be able to buy\, sell and trade cherished Vintage Militaria\, Civil War Memorabilia\, and a variety of Collector Arms at the South Boston   Halifax County Museum. Last year\, our pilot event gathered an attendance of more than 180 people in 2 days.  This year\, both new and returning vendors will make this event better than last year.\n\nAnyone who wishes to participate as a dealer is invited to register for a booth. Rules and restriction apply.
X-ALT-DESC;FMTTYPE=text/html:<p style="box-sizing: border-box\; margin: 0px 0px 16px\; caret-color: rgb(45\, 45\, 45)\; color: rgb(45\, 45\, 45)\; font-family: &quot\;Open Sans&quot\;\, sans-serif\; font-size: 14px\;">Our annual South Boston Civil War and Militaria show is back once again! Collectors from all over the Commonwealth of Virginia and the State of North Carolina will be able to buy\, sell and trade cherished Vintage Militaria\, Civil War Memorabilia\, and a variety of Collector Arms at the South Boston &ndash\; Halifax County Museum. Last year\, our pilot event gathered an attendance of more than 180 people in 2 days.&nbsp\; This year\, both new and returning vendors will make this event better than last year.</p>\n\n<p style="box-sizing: border-box\; margin: 0px\; caret-color: rgb(45\, 45\, 45)\; color: rgb(45\, 45\, 45)\; font-family: &quot\;Open Sans&quot\;\, sans-serif\; font-size: 14px\;">Anyone who wishes to participate as a dealer is invited to register for a booth. Rules and restriction apply.</p>\n
LOCATION:South Boston - Halifax County Museum 1540 Wilborn Ave. South Boston\, VA 24592
UID:e.845.12021
SEQUENCE:3
DTSTAMP:20260423T091044Z
URL:https://business.halifaxchamber.net/events/details/south-boston-virginia-civil-war-military-show-12021
END:VEVENT

END:VCALENDAR
