BEGIN:VCALENDAR
VERSION:2.0
PRODID:-//ChamberMaster//Event Calendar 2.0//EN
METHOD:PUBLISH
X-PUBLISHED-TTL:P3D
REFRESH-INTERVAL:P3D
CALSCALE:GREGORIAN
BEGIN:VEVENT
DTSTART:20190927T210000Z
DTEND:20190927T230000Z
X-MICROSOFT-CDO-ALLDAYEVENT:FALSE
SUMMARY:Southern Frills 2 Year Anniversary Sip & Shop
DESCRIPTION:Join Southern Frills in celebrating 2 years since their grand opening of their storefront. Enjoy sweets & spirits & girltime\, and shop the new Fall collection & remaining End of Summer Clearance items!
X-ALT-DESC;FMTTYPE=text/html:Join Southern Frills in celebrating 2 years since their grand opening of their storefront. Enjoy sweets &amp\; spirits &amp\; girltime\, and shop the new Fall collection &amp\; remaining End of Summer Clearance items!
LOCATION:Southern Frills Clothing Boutique 417 Main Street South Boston\, VA 24592
UID:e.845.13430
SEQUENCE:3
DTSTAMP:20260420T234350Z
URL:https://business.halifaxchamber.net/events/details/southern-frills-2-year-anniversary-sip-shop-13430
END:VEVENT

END:VCALENDAR
