BEGIN:VCALENDAR
VERSION:2.0
PRODID:-//ChamberMaster//Event Calendar 2.0//EN
METHOD:PUBLISH
X-PUBLISHED-TTL:P3D
REFRESH-INTERVAL:P3D
CALSCALE:GREGORIAN
BEGIN:VEVENT
DTSTART:20190205T150000Z
DTEND:20190209T200000Z
X-MICROSOFT-CDO-ALLDAYEVENT:FALSE
SUMMARY:Southern Frills Jean Event
DESCRIPTION:We've got your back(side) covered\, girl!\n\n\n\n-From Size 1 to 24\n\n-From Destructed Colored Jeans to Classic Wash Styles\n\n-From "Wanna Betta Butt" shape to "Hide Your Muffin Top" & LOTS of other brands!\n\n\n\nIn-store only - February 5-9th!\n\n\n\nBOGO 1/2 Off ALL JEANS!\n\n\n\n***Purchase a pair of jeans this week and be entered to WIN a FREE pair of your choice!***
X-ALT-DESC;FMTTYPE=text/html:<span style="color:#800080"><span style="font-family:helvetica\,arial\,sans-serif\; font-size:14px"><span style="background-color:#FFFFFF">We&#39\;ve got your back(side) covered\, girl!</span></span><br />\n<br />\n<span style="font-family:helvetica\,arial\,sans-serif\; font-size:14px"><span style="background-color:#FFFFFF">-From Size 1 to 24</span></span><br />\n<span style="font-family:helvetica\,arial\,sans-serif\; font-size:14px"><span style="background-color:#FFFFFF">-From Destructed Colored Jeans to Classic Wash Styles</span></span><br />\n<span style="font-family:helvetica\,arial\,sans-serif\; font-size:14px"><span style="background-color:#FFFFFF">-From &quot\;Wanna Betta Butt&quot\; shape to &quot\;Hide Your Muffin Top&quot\; &amp\; LOTS of other brands!</span></span><br />\n<br />\n<span style="font-family:helvetica\,arial\,sans-serif\; font-size:14px"><span style="background-color:#FFFFFF">In-store only - February 5-9th!</span></span><br />\n<br />\n<strong><span style="font-family:helvetica\,arial\,sans-serif\; font-size:14px">BOGO 1/2 Off ALL JEANS!</span></strong><br />\n<br />\n<span style="font-family:helvetica\,arial\,sans-serif\; font-size:14px">***Purchase a pair of jeans this week and be entered to WIN a FREE pair of your choice!***</span></span>
LOCATION:Southern Frills 417 Main Street South Boston\, VA 24592
UID:e.845.12018
SEQUENCE:3
DTSTAMP:20260421T110031Z
URL:https://business.halifaxchamber.net/events/details/southern-frills-jean-event-12018
END:VEVENT

END:VCALENDAR
