BEGIN:VCALENDAR
VERSION:2.0
PRODID:-//ChamberMaster//Event Calendar 2.0//EN
METHOD:PUBLISH
X-PUBLISHED-TTL:P3D
REFRESH-INTERVAL:P3D
CALSCALE:GREGORIAN
BEGIN:VEVENT
DTSTART:20170929T140000Z
DTEND:20170929T220000Z
X-MICROSOFT-CDO-ALLDAYEVENT:FALSE
SUMMARY:Southern Frills Open House and Ribbon Cutting
DESCRIPTION:Southern Frills invite you to their Grand Opening and Ribbon Cutting Friday\, September 29th.  Ribbon cutting will be held at 11:00AM.
X-ALT-DESC;FMTTYPE=text/html:Southern Frills invite you to their Grand Opening and Ribbon Cutting Friday\, September 29th. &nbsp\;Ribbon cutting will be held at 11:00AM.
LOCATION:Southern Frills 417 Main Street South Boston
UID:e.845.7099
SEQUENCE:3
DTSTAMP:20260422T160307Z
URL:https://business.halifaxchamber.net/events/details/southern-frills-open-house-and-ribbon-cutting-7099
END:VEVENT

END:VCALENDAR
