BEGIN:VCALENDAR
VERSION:2.0
PRODID:-//ChamberMaster//Event Calendar 2.0//EN
METHOD:PUBLISH
X-PUBLISHED-TTL:P3D
REFRESH-INTERVAL:P3D
CALSCALE:GREGORIAN
BEGIN:VEVENT
DTSTART:20200815T140000Z
DTEND:20200815T190000Z
X-MICROSOFT-CDO-ALLDAYEVENT:FALSE
SUMMARY:Southern Frills Show with LT & Tay
DESCRIPTION:This Saturday\, August 15th Lauren and Taylor will be in the store to celebrate 3 years of Southern Frills on Main Street and he transition to online only boutique.\n\n\n\nThis will be the LAST DAY that they are open in the location. The store remains at 50% off.
X-ALT-DESC;FMTTYPE=text/html:This Saturday\, August 15th Lauren and Taylor will be in the store to celebrate 3 years of Southern Frills on Main Street and he transition to online only boutique.<br />\n<br />\nThis will be the LAST DAY that they are open in the location. The store remains at 50% off.
LOCATION:Southern Frills Boutique 417 Main Street South Boston\, VA 24592
UID:e.845.17731
SEQUENCE:3
DTSTAMP:20260420T062929Z
URL:https://business.halifaxchamber.net/events/details/southern-frills-show-with-lt-tay-17731
END:VEVENT

END:VCALENDAR
