BEGIN:VCALENDAR
VERSION:2.0
PRODID:-//ChamberMaster//Event Calendar 2.0//EN
METHOD:PUBLISH
X-PUBLISHED-TTL:P3D
REFRESH-INTERVAL:P3D
CALSCALE:GREGORIAN
BEGIN:VEVENT
DTSTART:20181213T130000Z
DTEND:20181213T140000Z
X-MICROSOFT-CDO-ALLDAYEVENT:FALSE
SUMMARY:Southern Piedmont Informational Breakfast
DESCRIPTION:The Southern Piedmont Technology Council invites you to breakfast this Thursday\, December 13th for an informational session to learn about the technology council and how it can benefit and support your organization. We will meet in the Hope Classroom at the Southern Virginia Higher Education Center in South Boston\, VA at 8:00am   9:00am. .  Please RSVP by Wednesday (12/12) at noon by emailing Rachel.Reynolds@Ialr.org or calling 434-766-6771.
X-ALT-DESC;FMTTYPE=text/html:<span style="font-family: Calibri\, sans-serif\; font-size: 15px\;">The Southern Piedmont Technology Council invites you to breakfast this Thursday\, December 13</span><sup style="font-family: Calibri\, sans-serif\;">th</sup><span style="font-family: Calibri\, sans-serif\; font-size: 15px\;">&nbsp\;for an informational session to learn about the technology council and how it can benefit and support your organization. We will meet in the Hope Classroom at the Southern Virginia Higher Education Center in South Boston\, VA at 8:00am &ndash\; 9:00am. .&nbsp\; Please RSVP by Wednesday (12/12) at noon by emailing&nbsp\;</span><a href="mailto:Rachel.Reynolds@Ialr.org" style="color: rgb(149\, 79\, 114)\; font-family: Calibri\, sans-serif\; font-size: 15px\;">Rachel.Reynolds@Ialr.org</a><span style="font-family: Calibri\, sans-serif\; font-size: 15px\;">&nbsp\;or calling 434-766-6771.</span>
LOCATION:Hope Classroom Southern Virginia Higher Education Center
UID:e.845.11436
SEQUENCE:3
DTSTAMP:20260421T153713Z
URL:https://business.halifaxchamber.net/events/details/southern-piedmont-informational-breakfast-11436
END:VEVENT

END:VCALENDAR
