BEGIN:VCALENDAR
VERSION:2.0
PRODID:-//ChamberMaster//Event Calendar 2.0//EN
METHOD:PUBLISH
X-PUBLISHED-TTL:P3D
REFRESH-INTERVAL:P3D
CALSCALE:GREGORIAN
BEGIN:VEVENT
DTSTART:20201217T130000Z
DTEND:20201217T140000Z
X-MICROSOFT-CDO-ALLDAYEVENT:FALSE
SUMMARY:Southern Piedmont Technology Council Virtual Breakfast
DESCRIPTION:Join SPTC to learn about membership and how the technology council can benefit and support you and your organization.\n\nSince SPTC cannot treat those considering membership to a delicious in-person breakfast this year\, they are offering non-members a $10 gift card to have breakfast on us if you join the call!
X-ALT-DESC;FMTTYPE=text/html:Join SPTC to learn about membership and how the technology council can benefit and support you and your organization.<br />\nSince SPTC cannot treat those considering membership to a delicious in-person breakfast this year\, they are offering non-members a $10 gift card to have breakfast on us if you join the call!
LOCATION:Zoom link will be sent with registration confirmation. Register at https://www.sptc-va.org/event/membership-info-session/
UID:e.845.17819
SEQUENCE:3
DTSTAMP:20260419T234551Z
URL:https://business.halifaxchamber.net/events/details/southern-piedmont-technology-council-virtual-breakfast-17819
END:VEVENT

END:VCALENDAR
