BEGIN:VCALENDAR
VERSION:2.0
PRODID:-//ChamberMaster//Event Calendar 2.0//EN
METHOD:PUBLISH
X-PUBLISHED-TTL:P3D
REFRESH-INTERVAL:P3D
CALSCALE:GREGORIAN
BEGIN:VEVENT
DTSTART:20190330T213000Z
DTEND:20190330T213000Z
X-MICROSOFT-CDO-ALLDAYEVENT:FALSE
SUMMARY:Southern Regional Friends of NRA
DESCRIPTION:Join the Southern Regional Friends of NRA for their event Saturday\, March 30th at 5:30 p.m.
X-ALT-DESC;FMTTYPE=text/html:Join the Southern Regional Friends of NRA for their event Saturday\, March 30th at 5:30 p.m.
LOCATION:South Boston Volunteer Fire Department Support Center 801 Wilborne Ave. South Boston\, VA 24592
UID:e.845.12346
SEQUENCE:3
DTSTAMP:20260421T094103Z
URL:https://business.halifaxchamber.net/events/details/southern-regional-friends-of-nra-12346
END:VEVENT

END:VCALENDAR
