BEGIN:VCALENDAR
VERSION:2.0
PRODID:-//ChamberMaster//Event Calendar 2.0//EN
METHOD:PUBLISH
X-PUBLISHED-TTL:P3D
REFRESH-INTERVAL:P3D
CALSCALE:GREGORIAN
BEGIN:VEVENT
DTSTART:20170715T230000Z
DTEND:20170716T020000Z
X-MICROSOFT-CDO-ALLDAYEVENT:FALSE
SUMMARY:Southern Virginia Higher Education Center NASCAR Late Model T-75 / Limited T-25 / Pure Stock 30 / Hornets 15
DESCRIPTION:Southern Virginia Higher Education Center NASCAR Late Model T-75/Limited T-25/Pure Stock 30/Hornets 15
X-ALT-DESC;FMTTYPE=text/html:Southern Virginia Higher Education Center NASCAR Late Model T-75/Limited T-25/Pure Stock 30/Hornets 15
LOCATION:South Boston Speedway 1188 James D Hagood Highway South Boston\, VA 24592
UID:e.845.5810
SEQUENCE:3
DTSTAMP:20260422T194918Z
URL:https://business.halifaxchamber.net/events/details/southern-virginia-higher-education-center-nascar-late-model-t-75-limited-t-25-pure-stock-30-hornets-15-5810
END:VEVENT

END:VCALENDAR
