BEGIN:VCALENDAR
VERSION:2.0
PRODID:-//ChamberMaster//Event Calendar 2.0//EN
METHOD:PUBLISH
X-PUBLISHED-TTL:P3D
REFRESH-INTERVAL:P3D
CALSCALE:GREGORIAN
BEGIN:VEVENT
DTSTART:20210623T130000Z
DTEND:20210623T210000Z
X-MICROSOFT-CDO-ALLDAYEVENT:FALSE
SUMMARY:Southside Community Housing Conference
DESCRIPTION:The Southside Community Housing Conference is a FREE one-day\, virtual webinar sponsored by the Southside Virginia Continuum of Care and Tri-County Community Action Agency. This first-of-its-kind event is happening on June 23rd at 9am. This conference will feature educational seminars and panels on first-time homebuying\, tenant's rights\, credit repair\, introduction to housing barriers and more! The educational seminars featured in this event are for anyone interested in learning more about affordable housing and the resources available in the Southside community. Whether you are a tenant looking to learn your rights or a provider hoping to learn more about the barriers being faced in this community\, there is something to learn for everyone. We are also offering professional certificates for qualifying seminars.
X-ALT-DESC;FMTTYPE=text/html:The Southside Community Housing Conference is a FREE one-day\, virtual webinar sponsored by the Southside Virginia Continuum of Care and Tri-County Community Action Agency. This first-of-its-kind event is happening on June 23rd at 9am. This conference will feature educational seminars and panels on first-time homebuying\, tenant&rsquo\;s rights\, credit repair\, introduction to housing barriers and more! The educational seminars featured in this event are for anyone interested in learning more about affordable housing and the resources available in the Southside community. Whether you are a tenant looking to learn your rights or a provider hoping to learn more about the barriers being faced in this community\, there is something to learn for everyone. We are also offering professional certificates for qualifying seminars.
LOCATION:Zoom\, Facebook Live
UID:e.845.18038
SEQUENCE:3
DTSTAMP:20260419T123755Z
URL:https://business.halifaxchamber.net/events/details/southside-community-housing-conference-18038
END:VEVENT

END:VCALENDAR
