BEGIN:VCALENDAR
VERSION:2.0
PRODID:-//ChamberMaster//Event Calendar 2.0//EN
METHOD:PUBLISH
X-PUBLISHED-TTL:P3D
REFRESH-INTERVAL:P3D
CALSCALE:GREGORIAN
BEGIN:VEVENT
DTSTART:20191018T220000Z
DTEND:20191019T000000Z
X-MICROSOFT-CDO-ALLDAYEVENT:FALSE
SUMMARY:Southside Outreach Group 10th Annual Banquet
DESCRIPTION:Southside Outreach Group invites you to attend their 10th Annual Banquet.\n\nKeynote speaker will be Tina Wyatt Younger\, Vice Mayor of South Boston.\n\nTickets are $25 per person.\n\nFor tickets\, or more information\, please contact our office at 1425 Seymour Drive\, South Boston or 434.572.9556
X-ALT-DESC;FMTTYPE=text/html:Southside Outreach Group invites you to attend their 10th Annual Banquet.<br />\nKeynote speaker will be Tina Wyatt Younger\, Vice Mayor of South Boston.<br />\nTickets are $25 per person.<br />\nFor tickets\, or more information\, please contact our office at 1425 Seymour Drive\, South Boston or 434.572.9556
LOCATION:Sentara Regional Hospital Leggett Auditorium 2204 Wilborn Avenue South Boston\, VA 24592
UID:e.845.13450
SEQUENCE:3
DTSTAMP:20260420T234312Z
URL:https://business.halifaxchamber.net/events/details/southside-outreach-group-10th-annual-banquet-13450
END:VEVENT

END:VCALENDAR
