BEGIN:VCALENDAR
VERSION:2.0
PRODID:-//ChamberMaster//Event Calendar 2.0//EN
METHOD:PUBLISH
X-PUBLISHED-TTL:P3D
REFRESH-INTERVAL:P3D
CALSCALE:GREGORIAN
BEGIN:VEVENT
DTSTART:20181005T220000Z
DTEND:20181006T000000Z
X-MICROSOFT-CDO-ALLDAYEVENT:FALSE
SUMMARY:Southside Outreach Group 9th Annual Banquet
DESCRIPTION:We cordially invite the public to attend Southside Outreach Group \, Inc. 9th  Annual Banquet. Keynote speker will be the Honarable Joel Cunningham Former Circuit Court Judge for the 10th Judicial Court.
X-ALT-DESC;FMTTYPE=text/html:We cordially invite the public to attend Southside Outreach Group \, Inc. 9th &nbsp\;Annual Banquet. Keynote speker will be the Honarable Joel Cunningham Former Circuit Court Judge for the 10th Judicial Court.
LOCATION:Sentara Regional Hospital - Leggett Auditorium 2204 Wilborn Avenue South Boston \, VA
UID:e.845.8512
SEQUENCE:3
DTSTAMP:20260421T171543Z
URL:https://business.halifaxchamber.net/events/details/southside-outreach-group-9th-annual-banquet-8512
END:VEVENT

END:VCALENDAR
