BEGIN:VCALENDAR
VERSION:2.0
PRODID:-//ChamberMaster//Event Calendar 2.0//EN
METHOD:PUBLISH
X-PUBLISHED-TTL:P3D
REFRESH-INTERVAL:P3D
CALSCALE:GREGORIAN
BEGIN:VEVENT
DTSTART:20210530T170000Z
DTEND:20210530T210000Z
X-MICROSOFT-CDO-ALLDAYEVENT:FALSE
SUMMARY:Southside Shindig X and Recovering Hands 5th Annual Alumni Event
DESCRIPTION:Founded in 2015 by Bill and Kim Adams of Nathalie\, VA\, Recovering Hands is a nonprofit extended-care center that is dedicated to improving the quality of life for women with substance abuse issues through a three month\, residential\, peer support program.  The Recovering Hands program focuses on teaching women the life skills necessary to maintain long term recovery.\n                \n\nThe Adams will host Southside Shindig X and the Fifth Annual Recovering Hands Alumni Event this Sunday May 30th from 1 p.m. to "whenever".   The event is open to everyone who wishes to support Recovering Hands. \n\n \n\nRaffle tickets will be available for a 4'x4' Barn Quilt\, and two 50/50 raffles will also be held with a portion of the benefits going to the musicians and the other funding Recovering Hands scholarships.\n\n \n\nThe shindig will include music\, pig pickin' corn hole\, slip n slide\, tournament horseshoes\, Frisbee\, tours of the facility\, food\, fun and fellowship.\n\n \n\nGuests are asked to bring a favorite dish and lawn chair\, but leave the pets at home.\n\n \n\nRecovering Hands is an accredited Virginia Recovery Residence and includes two cabins   one for residents and the other is for staff   as well as the main house that serves as the Adams' home and an area for activities and meals.\n\n \n\nThe group room is housed in a separate building near the main house where the life skills program is mostly conducted. \n\n \n\nAlso on the property are a labyrinth\, greenhouse and gym.\n\n \n\nFor more information\, contact program director\, founder and CEO Kim Adams by calling 860-309-1404 or emailing kim@recoveringhands.com.\n\n \n\nYou can find us on Facebook at facebook.com/RecoveringHands.\n\nTo get help or make a donation\, visit www.recoveringhands.com.\n\n \n\n \n\nOur program relies almost entirely on the generosity of our donors. We fight the effects of this Opioid Epidemic one grateful life at a time. Please come on out and tour the facility and enjoy the space.\n\n \n\nPlease view our short powerpoint presentation below:\n\nhttps://drive.google.com/file/d/1r8Pg0R-3AiHBcFurralZZqtUqr5AQW_J/view?fbclid=IwAR2V1zyPuscAkmKwHxJXn1vYVxMXcs8Q3HXV3yK9fWqBO33DJTRf46lziFE\n\n \n\nAnd download our brochure here:  \n\nhttp://recoveringhands.com/wp-content/uploads/2015/02/RecoveringHands-brochure-new-board.pdf
X-ALT-DESC;FMTTYPE=text/html:<div><span style="font-size:12pt">Founded in 2015 by Bill and Kim Adams of Nathalie\, VA\, Recovering Hands is a nonprofit extended-care center that is dedicated to improving the quality of life for women with substance abuse issues through a three month\, residential\, peer support program.&nbsp\; The Recovering Hands program focuses on teaching women the life skills necessary to maintain long term recovery.</span></div>\n&nbsp\;&nbsp\;&nbsp\;&nbsp\;&nbsp\;&nbsp\;&nbsp\;&nbsp\;&nbsp\;&nbsp\;&nbsp\;&nbsp\;&nbsp\;&nbsp\;&nbsp\;&nbsp\;\n\n<div><span style="font-size:12pt">The Adams will host Southside Shindig X and the </span>Fifth<span style="font-size:12pt"> Annual Recovering Hands Alumni Event </span>this Sunday May 30<sup>th</sup> <span style="font-size:12pt">from 1 p.m. to &ldquo\;whenever&rdquo\;</span>.&nbsp\; &nbsp\;<span style="font-size:12pt">The event is open to everyone who wishes to support Recovering Hands. </span></div>\n\n<div>&nbsp\;</div>\n\n<div><span style="font-size:12pt">Raffle tickets will be available for a 4&rsquo\;x4&rsquo\; Barn Quilt\, and two 50/50 raffles will also be held with a portion of the benefits going to the musicians and the other funding Recovering Hands scholarships.</span></div>\n\n<div>&nbsp\;</div>\n\n<div><span style="font-size:12pt">The shindig will include music\, pig pickin&rsquo\; corn hole\, slip n slide\, tournament horseshoes\, Frisbee\, tours of the facility\, food\, fun and fellowship.</span></div>\n\n<div>&nbsp\;</div>\n\n<div><span style="font-size:12pt">Guests are asked to bring a favorite dish and lawn chair\, but leave the pets at home.</span></div>\n\n<div>&nbsp\;</div>\n\n<div><span style="font-size:12pt">Recovering Hands is an accredited Virginia Recovery Residence and includes two cabins &mdash\; one for residents and the other is for staff &mdash\; as well as the main house that serves as the Adams&rsquo\; home and an area for activities and meals.</span></div>\n\n<div>&nbsp\;</div>\n\n<div><span style="font-size:12pt">The group room is housed in a separate building near the main house where the life skills program is mostly conducted. </span></div>\n\n<div>&nbsp\;</div>\n\n<div><span style="font-size:12pt">Also on the property are a labyrinth\, greenhouse and gym.</span></div>\n\n<div>&nbsp\;</div>\n\n<div><span style="font-size:12pt">For more information\, contact program director\, founder and CEO Kim Adams by calling 860-309-1404 or emailing&nbsp\;<a href="mailto:kim@recoveringhands.com" style="box-sizing:border-box\;"><span style="color:windowtext">kim@recoveringhands.com</span></a>.</span></div>\n\n<div>&nbsp\;</div>\n\n<div><span style="font-size:12pt">You can find us on Facebook at&nbsp\;<a href="http://facebook.com/RecoveringHands" style="box-sizing:border-box\;"><span style="color:windowtext">facebook.com/RecoveringHands</span></a>.</span></div>\n\n<div><span style="font-size:12pt">To get help or make a donation\, visit&nbsp\;<a href="http://www.recoveringhands.com/" style="box-sizing:border-box\;"><span style="color:windowtext">www.recoveringhands.com</span></a>.</span></div>\n\n<div>&nbsp\;</div>\n\n<div>&nbsp\;</div>\n\n<div><span style="font-size:12pt">Our program relies almost entirely on the generosity of our donors. We fight the effects of this Opioid Epidemic one grateful life at a time. Please come on out and tour the facility and enjoy the space.</span></div>\n\n<div>&nbsp\;</div>\n\n<div><span style="font-size:12pt">Please view our short powerpoint presentation below:</span></div>\n\n<div><span style="font-size:12pt"><a href="https://drive.google.com/file/d/1r8Pg0R-3AiHBcFurralZZqtUqr5AQW_J/view?fbclid=IwAR2V1zyPuscAkmKwHxJXn1vYVxMXcs8Q3HXV3yK9fWqBO33DJTRf46lziFE"><span style="color:windowtext">https://drive.google.com/file/d/1r8Pg0R-3AiHBcFurralZZqtUqr5AQW_J/view?fbclid=IwAR2V1zyPuscAkmKwHxJXn1vYVxMXcs8Q3HXV3yK9fWqBO33DJTRf46lziFE</span></a></span></div>\n\n<div>&nbsp\;</div>\n\n<div><span style="font-size:12pt">And download our brochure here: &nbsp\;</span></div>\n\n<div><span style="font-size:12pt"><span style="color:windowtext"><a href="http://recoveringhands.com/wp-content/uploads/2015/02/RecoveringHands-brochure-new-board.pdf">http://recoveringhands.com/wp-content/uploads/2015/02/RecoveringHands-brochure-new-board.pdf</a></span></span></div>\n
LOCATION:4067 Beulah Road\, Nathalie\, VA 24577
UID:e.845.18030
SEQUENCE:3
DTSTAMP:20260419T154136Z
URL:https://business.halifaxchamber.net/events/details/southside-shindig-x-and-recovering-hands-5th-annual-alumni-event-18030
END:VEVENT

END:VCALENDAR
