BEGIN:VCALENDAR
VERSION:2.0
PRODID:-//ChamberMaster//Event Calendar 2.0//EN
METHOD:PUBLISH
X-PUBLISHED-TTL:P3D
REFRESH-INTERVAL:P3D
CALSCALE:GREGORIAN
BEGIN:VEVENT
DTSTART:20190504T140000Z
DTEND:20190504T210000Z
X-MICROSOFT-CDO-ALLDAYEVENT:FALSE
SUMMARY:Southside Virginia Bottle Collectors' Fair
DESCRIPTION:For the first time ever\, antique bottle collectors will be able to buy\, sell and trade antique bottles\, glassware\, and more at the South Boston   Halifax County Museum of Fine Arts and History. Everything from vintage milk bottles and classic soda bottles to 19th-century glassware will be found in abundance.\n\n\n\nAdmission is $5 per person and children under 12 are free with adult tickets.\n\n\n\nAnyone who wishes to participate as a dealer is invited to register for a booth. Applications are available on our website: www.sbhcmuseum.org. Rules and restriction apply.\n\n\n\nFor more information\, send an email to info@sbhcmuseum.org or give us a call to 434-572-9200.
X-ALT-DESC;FMTTYPE=text/html:<div class="_63eu _63ev" style="box-sizing: border-box\; font-size: 14px\; max-height: none\; overflow: visible\; padding: 12px\; word-wrap: break-word\; font-family: system-ui\, -apple-system\, BlinkMacSystemFont\, &quot\;.SFNSText-Regular&quot\;\, sans-serif\; caret-color: rgb(29\, 33\, 41)\; color: rgb(29\, 33\, 41)\;">\n<div class="_63ew" data-testid="event-permalink-details" style="white-space: pre-wrap\; font-family: inherit\;"><span style="font-family: inherit\;">For the first time ever\, antique bottle collectors will be able to buy\, sell and trade antique bottles\, glassware\, and more at the South Boston &ndash\; Halifax County Museum of Fine Arts and History. Everything from vintage milk bottles and classic soda bottles to 19th-century glassware will be found in abundance.<br />\n<br />\nAdmission is $5 per person and children under 12 are free with adult tickets.<br />\n<br />\nAnyone who wishes to participate as a dealer is invited to register for a booth. Applications are available on our website: <a data-lynx-mode="hover" data-lynx-uri="https://l.facebook.com/l.php?u=http%3A%2F%2Fwww.sbhcmuseum.org%2F%3Ffbclid%3DIwAR1Zb0Xdl7pvG7rVdsQmJObZXbDoNYJ2Agj4pfYRh_hpm10-tY0gUw-ADKI&amp\;h=AT0wskEi1wUqMQ62WmvAUV3U0Thw5bxvQUOSJJ4KGgcxw9lTijBogTtwraMz0jR07xdnP3Slarmcg6g6aVSrcwOl-cWLEzNTEmRM5XubJFHGIswyrcozriIoJ8qmBk1K0GbokLSX6w" href="http://www.sbhcmuseum.org/?fbclid=IwAR1Zb0Xdl7pvG7rVdsQmJObZXbDoNYJ2Agj4pfYRh_hpm10-tY0gUw-ADKI" rel="nofollow noopener" style="color: rgb(54\, 88\, 153)\; cursor: pointer\; text-decoration: none\; font-family: inherit\;" target="_blank">www.sbhcmuseum.org.</a> Rules and restriction apply.<br />\n<br />\nFor more information\, send an email to info@sbhcmuseum.org or give us a call to 434-572-9200.</span></div>\n</div>\n
LOCATION:
UID:e.845.12388
SEQUENCE:3
DTSTAMP:20260421T062834Z
URL:https://business.halifaxchamber.net/events/details/southside-virginia-bottle-collectors-fair-12388
END:VEVENT

END:VCALENDAR
