BEGIN:VCALENDAR
VERSION:2.0
PRODID:-//ChamberMaster//Event Calendar 2.0//EN
METHOD:PUBLISH
X-PUBLISHED-TTL:P3D
REFRESH-INTERVAL:P3D
CALSCALE:GREGORIAN
BEGIN:VEVENT
DTSTART:20181126T150000Z
DTEND:20181126T210000Z
X-MICROSOFT-CDO-ALLDAYEVENT:FALSE
SUMMARY:SouthStone Behavioral Health Job Fair
DESCRIPTION:Southstone Behavioral Health Job Fair\n\nHiring RN's\, Teachers\, Youth Specialists\n\nGreat Benefits\, Come join an AWESOME team!
X-ALT-DESC;FMTTYPE=text/html:Southstone Behavioral Health Job Fair<br />\nHiring RN&#39\;s\, Teachers\, Youth Specialists<br />\nGreat Benefits\, Come join an AWESOME team!
LOCATION:Virginia Career Works 2506 Houghton Ave South Boston\, VA
UID:e.845.8595
SEQUENCE:3
DTSTAMP:20260421T153852Z
URL:https://business.halifaxchamber.net/events/details/southstone-behavioral-health-job-fair-8595
END:VEVENT

END:VCALENDAR
